BEGIN:VCALENDAR
VERSION:2.0
PRODID:-//AMAC - ECPv6.15.18//NONSGML v1.0//EN
CALSCALE:GREGORIAN
METHOD:PUBLISH
X-ORIGINAL-URL:https://amac-events.ch
X-WR-CALDESC:Évènements pour AMAC
REFRESH-INTERVAL;VALUE=DURATION:PT1H
X-Robots-Tag:noindex
X-PUBLISHED-TTL:PT1H
BEGIN:VTIMEZONE
TZID:Europe/Zurich
BEGIN:DAYLIGHT
TZOFFSETFROM:+0100
TZOFFSETTO:+0200
TZNAME:CEST
DTSTART:20230326T010000
END:DAYLIGHT
BEGIN:STANDARD
TZOFFSETFROM:+0200
TZOFFSETTO:+0100
TZNAME:CET
DTSTART:20231029T010000
END:STANDARD
BEGIN:DAYLIGHT
TZOFFSETFROM:+0100
TZOFFSETTO:+0200
TZNAME:CEST
DTSTART:20240331T010000
END:DAYLIGHT
BEGIN:STANDARD
TZOFFSETFROM:+0200
TZOFFSETTO:+0100
TZNAME:CET
DTSTART:20241027T010000
END:STANDARD
BEGIN:DAYLIGHT
TZOFFSETFROM:+0100
TZOFFSETTO:+0200
TZNAME:CEST
DTSTART:20250330T010000
END:DAYLIGHT
BEGIN:STANDARD
TZOFFSETFROM:+0200
TZOFFSETTO:+0100
TZNAME:CET
DTSTART:20251026T010000
END:STANDARD
END:VTIMEZONE
BEGIN:VEVENT
DTSTART;TZID=Europe/Zurich:20240622T130000
DTEND;TZID=Europe/Zurich:20240622T135000
DTSTAMP:20260425T150437
CREATED:20240613T204127Z
LAST-MODIFIED:20240613T204127Z
UID:2620-1719061200-1719064200@amac-events.ch
SUMMARY:Harmonie Morgienne
DESCRIPTION:
URL:https://amac-events.ch/event/harmonie-morgienne-2/
LOCATION:Hôtel de Ville\, Place de l'Hôtel de Ville\, Morges\, Vaud\, 1110\, Suisse
CATEGORIES:Fête de la Musique
ATTACH;FMTTYPE=image/jpeg:https://amac-events.ch/wp-content/uploads/2022/06/Harmonie-morgienne.jpeg
ORGANIZER;CN="AMAC":MAILTO:info@amac-events.ch
END:VEVENT
END:VCALENDAR